BEGIN:VCALENDAR
VERSION:2.0
PRODID:jazz-concerts.com
METHOD:PUBLISH
SEQUENCE:1777089116
BEGIN:VEVENT
UID:jazz-concerts.com-1-43586
DTSTAMP:20260425T055156
DTSTART:20260824T200000
DTEND:20260824T220000
SUMMARY:Lenka Nová
LOCATION:Jazz Dock Janáčkovo nábřeží 3249/2\, 150 00 Hlavní město Praha\, Tschechien
DESCRIPTION:Tickets / Eintrittskarten: https://jazz-concerts.com/de/event/43586\n\nLenka Nová\n\n
END:VEVENT
END:VCALENDAR
