BEGIN:VCALENDAR
VERSION:2.0
PRODID:jazz-concerts.com
METHOD:PUBLISH
SEQUENCE:1777071851
BEGIN:VEVENT
UID:jazz-concerts.com-1-43568
DTSTAMP:20260425T010411
DTSTART:20260630T210000
DTEND:20260630T230000
SUMMARY:Laco Deczi Celula New York
LOCATION:Jazz Dock Janáčkovo nábřeží 3249/2\, 150 00 Hlavní město Praha\, Tschechien
DESCRIPTION:Tickets / Eintrittskarten: https://jazz-concerts.com/de/event/43568\n\nLaco Deczi Celula New York\n\n
END:VEVENT
END:VCALENDAR
