BEGIN:VCALENDAR
VERSION:2.0
PRODID:jazz-concerts.com
METHOD:PUBLISH
SEQUENCE:1777059159
BEGIN:VEVENT
UID:jazz-concerts.com-1-43566
DTSTAMP:20260424T213239
DTSTART:20260617T210000
DTEND:20260617T230000
SUMMARY:Michal Pavlíček & Trio
LOCATION:Jazz Dock Janáčkovo nábřeží 3249/2\, 150 00 Hlavní město Praha\, Tschechien
DESCRIPTION:Tickets / Eintrittskarten: https://jazz-concerts.com/de/event/43566\n\nMichal Pavlíček & Trio\n\n
END:VEVENT
END:VCALENDAR
