BEGIN:VCALENDAR
VERSION:2.0
PRODID:jazz-concerts.com
METHOD:PUBLISH
SEQUENCE:1777059160
BEGIN:VEVENT
UID:jazz-concerts.com-1-43565
DTSTAMP:20260424T213240
DTSTART:20260616T210000
DTEND:20260616T230000
SUMMARY:Michal Pavlíček & Trio
LOCATION:Jazz Dock Janáčkovo nábřeží 3249/2\, 150 00 Hlavní město Praha\, Tschechien
DESCRIPTION:Tickets / Eintrittskarten: https://jazz-concerts.com/de/event/43565\n\nMichal Pavlíček & Trio\n\n
END:VEVENT
END:VCALENDAR
