BEGIN:VCALENDAR
VERSION:2.0
PRODID:jazz-concerts.com
METHOD:PUBLISH
SEQUENCE:1777071851
BEGIN:VEVENT
UID:jazz-concerts.com-1-43564
DTSTAMP:20260425T010411
DTSTART:20260614T160000
DTEND:20260614T180000
SUMMARY:Old Timers Jazz Band
LOCATION:Jazz Dock Janáčkovo nábřeží 3249/2\, 150 00 Hlavní město Praha\, Tschechien
DESCRIPTION:Tickets / Eintrittskarten: https://jazz-concerts.com/de/event/43564\n\nOld Timers Jazz Band\n\n
END:VEVENT
END:VCALENDAR
