BEGIN:VCALENDAR
VERSION:2.0
PRODID:jazz-concerts.com
METHOD:PUBLISH
SEQUENCE:1777071381
BEGIN:VEVENT
UID:jazz-concerts.com-1-43563
DTSTAMP:20260425T005621
DTSTART:20260610T200000
DTEND:20260610T220000
SUMMARY:Lenka Nová
LOCATION:Jazz Dock Janáčkovo nábřeží 3249/2\, 150 00 Hlavní město Praha\, Tschechien
DESCRIPTION:Tickets / Eintrittskarten: https://jazz-concerts.com/de/event/43563\n\nLenka Nová\n\n
END:VEVENT
END:VCALENDAR
