BEGIN:VCALENDAR
VERSION:2.0
PRODID:jazz-concerts.com
METHOD:PUBLISH
SEQUENCE:1777071931
BEGIN:VEVENT
UID:jazz-concerts.com-1-43562
DTSTAMP:20260425T010531
DTSTART:20260603T210000
DTEND:20260603T230000
SUMMARY:Jakub Zitko & Orfanik Orchestra
LOCATION:Jazz Dock Janáčkovo nábřeží 3249/2\, 150 00 Hlavní město Praha\, Tschechien
DESCRIPTION:Tickets / Eintrittskarten: https://jazz-concerts.com/de/event/43562\n\nJakub Zitko & Orfanik Orchestra\n\n
END:VEVENT
END:VCALENDAR
