BEGIN:VCALENDAR
VERSION:2.0
PRODID:jazz-concerts.com
METHOD:PUBLISH
SEQUENCE:1777071380
BEGIN:VEVENT
UID:jazz-concerts.com-1-43561
DTSTAMP:20260425T005620
DTSTART:20260521T210000
DTEND:20260521T230000
SUMMARY:Chris Potter Trio
LOCATION:Jazz Dock Janáčkovo nábřeží 3249/2\, 150 00 Hlavní město Praha\, Tschechien
DESCRIPTION:Tickets / Eintrittskarten: https://jazz-concerts.com/de/event/43561\n\nChris Potter Trio\n\n
END:VEVENT
END:VCALENDAR
