BEGIN:VCALENDAR
VERSION:2.0
PRODID:jazz-concerts.com
METHOD:PUBLISH
SEQUENCE:1777071931
BEGIN:VEVENT
UID:jazz-concerts.com-1-43559
DTSTAMP:20260425T010531
DTSTART:20260513T210000
DTEND:20260513T230000
SUMMARY:Milan Svoboda Quartett
LOCATION:Jazz Dock Janáčkovo nábřeží 3249/2\, 150 00 Hlavní město Praha\, Tschechien
DESCRIPTION:Tickets / Eintrittskarten: https://jazz-concerts.com/de/event/43559\n\nMilan Svoboda Quartett\n\n
END:VEVENT
END:VCALENDAR
