BEGIN:VCALENDAR
VERSION:2.0
PRODID:jazz-concerts.com
METHOD:PUBLISH
SEQUENCE:1777071850
BEGIN:VEVENT
UID:jazz-concerts.com-1-43555
DTSTAMP:20260425T010410
DTSTART:20260504T210000
DTEND:20260504T230000
SUMMARY:Jakub Tököly Trio
LOCATION:Jazz Dock Janáčkovo nábřeží 3249/2\, 150 00 Hlavní město Praha\, Tschechien
DESCRIPTION:Tickets / Eintrittskarten: https://jazz-concerts.com/de/event/43555\n\nJakub Tököly Trio\n\n
END:VEVENT
END:VCALENDAR
