BEGIN:VCALENDAR
VERSION:2.0
PRODID:jazz-concerts.com
METHOD:PUBLISH
SEQUENCE:1777158768
BEGIN:VEVENT
UID:jazz-concerts.com-1-43512
DTSTAMP:20260426T011248
DTSTART:20260722T210000
DTEND:20260722T230000
SUMMARY:Marcus Miller - We Want Miles
LOCATION:Amphitheater von Pompeii Piazza Immacolata\, 80045 Campania\, Italien
DESCRIPTION:Tickets / Eintrittskarten: https://jazz-concerts.com/de/event/43512\n\nMarcus Miller - We Want Miles\n\n
END:VEVENT
END:VCALENDAR
