BEGIN:VCALENDAR
VERSION:2.0
PRODID:jazz-concerts.com
METHOD:PUBLISH
SEQUENCE:1777158767
BEGIN:VEVENT
UID:jazz-concerts.com-1-43506
DTSTAMP:20260426T011247
DTSTART:20260724T210000
DTEND:20260724T230000
SUMMARY:Marcus Miller - We Want Miles
LOCATION:Palau de la Música Catalana Carrer del Palau de la Música 4-6\, 08003 Barcelona\, Spanien
DESCRIPTION:Tickets / Eintrittskarten: https://jazz-concerts.com/de/event/43506\n\nMarcus Miller - We Want Miles\n\n
END:VEVENT
END:VCALENDAR
