BEGIN:VCALENDAR
VERSION:2.0
PRODID:jazz-concerts.com
METHOD:PUBLISH
SEQUENCE:1777153204
BEGIN:VEVENT
UID:jazz-concerts.com-1-43504
DTSTAMP:20260425T234004
DTSTART:20260720T210000
DTEND:20260720T230000
SUMMARY:Marcus Miller - We Want Miles
LOCATION:Cavea-Auditorium Parco della Musica Viale De Coubertin Pietro 30\, 00196 Roma\, Italien
DESCRIPTION:Tickets / Eintrittskarten: https://jazz-concerts.com/de/event/43504\n\nMarcus Miller - We Want Miles\n\n
END:VEVENT
END:VCALENDAR
