BEGIN:VCALENDAR
VERSION:2.0
PRODID:jazz-concerts.com
METHOD:PUBLISH
SEQUENCE:1777158767
BEGIN:VEVENT
UID:jazz-concerts.com-1-43503
DTSTAMP:20260426T011247
DTSTART:20260714T213000
DTEND:20260714T233000
SUMMARY:Marcus Miller - We Want Miles
LOCATION:Križanke Trg francoske revolucije 1\, 1000 Ljubljana\, Slowenien
DESCRIPTION:Tickets / Eintrittskarten: https://jazz-concerts.com/de/event/43503\n\nMarcus Miller - We Want Miles\n\n
END:VEVENT
END:VCALENDAR
