BEGIN:VCALENDAR
VERSION:2.0
PRODID:jazz-concerts.com
METHOD:PUBLISH
SEQUENCE:1777158351
BEGIN:VEVENT
UID:jazz-concerts.com-1-43502
DTSTAMP:20260426T010551
DTSTART:20260708T200000
DTEND:20260708T220000
SUMMARY:Marcus Miller - We Want Miles
LOCATION:Wiener Konzerthaus Lothringerstraße 20\, 1030 Wien\, Österreich
DESCRIPTION:Tickets / Eintrittskarten: https://jazz-concerts.com/de/event/43502\n\nMarcus Miller - We Want Miles\n\n
END:VEVENT
END:VCALENDAR
