BEGIN:VCALENDAR
VERSION:2.0
PRODID:jazz-concerts.com
METHOD:PUBLISH
SEQUENCE:1777158304
BEGIN:VEVENT
UID:jazz-concerts.com-1-43501
DTSTAMP:20260426T010504
DTSTART:20260706T193000
DTEND:20260706T213000
SUMMARY:Marcus Miller - We Want Miles
LOCATION:Musikhuset Aarhus Thomas Jensens Allé 2\, 8000 Aarhus\, Dänemark
DESCRIPTION:Tickets / Eintrittskarten: https://jazz-concerts.com/de/event/43501\n\nMarcus Miller - We Want Miles\n\n
END:VEVENT
END:VCALENDAR
