BEGIN:VCALENDAR
VERSION:2.0
PRODID:jazz-concerts.com
METHOD:PUBLISH
SEQUENCE:1777158305
BEGIN:VEVENT
UID:jazz-concerts.com-1-43500
DTSTAMP:20260426T010505
DTSTART:20260702T160000
DTEND:20260702T180000
SUMMARY:Marcus Miller - We Want Miles
LOCATION:Városháza park Budapest\, Ungarn
DESCRIPTION:Tickets / Eintrittskarten: https://jazz-concerts.com/de/event/43500\n\nMarcus Miller - We Want Miles\n\n
END:VEVENT
END:VCALENDAR
