BEGIN:VCALENDAR
VERSION:2.0
PRODID:jazz-concerts.com
METHOD:PUBLISH
SEQUENCE:1777158305
BEGIN:VEVENT
UID:jazz-concerts.com-1-43499
DTSTAMP:20260426T010505
DTSTART:20260605T000000
DTEND:20260605T020000
SUMMARY:Marcus Miller - We Want Miles
LOCATION: Crownsville\, USA
DESCRIPTION:Tickets / Eintrittskarten: https://jazz-concerts.com/de/event/43499\n\nMarcus Miller - We Want Miles\n\n
END:VEVENT
END:VCALENDAR
