BEGIN:VCALENDAR
VERSION:2.0
PRODID:jazz-concerts.com
METHOD:PUBLISH
SEQUENCE:1777071381
BEGIN:VEVENT
UID:jazz-concerts.com-1-43498
DTSTAMP:20260425T005621
DTSTART:20260524T200000
DTEND:20260524T220000
SUMMARY:Marcus Miller - We Want Miles
LOCATION:Rams Head On Stage West Street 33\, 21401 Annapolis\, USA
DESCRIPTION:Tickets / Eintrittskarten: https://jazz-concerts.com/de/event/43498\n\nMarcus Miller - We Want Miles\n\n
END:VEVENT
END:VCALENDAR
