BEGIN:VCALENDAR
VERSION:2.0
PRODID:jazz-concerts.com
METHOD:PUBLISH
SEQUENCE:1777059160
BEGIN:VEVENT
UID:jazz-concerts.com-1-43496
DTSTAMP:20260424T213240
DTSTART:20260522T193000
DTEND:20260522T213000
SUMMARY:Marcus Miller - We Want Miles
LOCATION:The Birchmere Mount Vernon Avenue 3701\, 22305 Alexandria\, USA
DESCRIPTION:Tickets / Eintrittskarten: https://jazz-concerts.com/de/event/43496\n\nMarcus Miller - We Want Miles\n\n
END:VEVENT
END:VCALENDAR
