BEGIN:VCALENDAR
VERSION:2.0
PRODID:jazz-concerts.com
METHOD:PUBLISH
SEQUENCE:1777077897
BEGIN:VEVENT
UID:jazz-concerts.com-1-43489
DTSTAMP:20260425T024457
DTSTART:20261025T203000
DTEND:20261025T223000
SUMMARY:John Scofield Electrospective
LOCATION:City Winery Atlanta North Avenue Northeast 650\, 30308 Atlanta\, USA
DESCRIPTION:Tickets / Eintrittskarten: https://jazz-concerts.com/de/event/43489\n\nJohn Scofield Electrospective\n\n
END:VEVENT
END:VCALENDAR
