BEGIN:VCALENDAR
VERSION:2.0
PRODID:jazz-concerts.com
METHOD:PUBLISH
SEQUENCE:1777059159
BEGIN:VEVENT
UID:jazz-concerts.com-1-43487
DTSTAMP:20260424T213239
DTSTART:20261022T200000
DTEND:20261022T220000
SUMMARY:John Scofield Electrospective
LOCATION:The Hamilton Live 14th Street Northwest 600\, 20005 Washington\, USA
DESCRIPTION:Tickets / Eintrittskarten: https://jazz-concerts.com/de/event/43487\n\nJohn Scofield Electrospective\n\n
END:VEVENT
END:VCALENDAR
