BEGIN:VCALENDAR
VERSION:2.0
PRODID:jazz-concerts.com
METHOD:PUBLISH
SEQUENCE:1777077897
BEGIN:VEVENT
UID:jazz-concerts.com-1-43486
DTSTAMP:20260425T024457
DTSTART:20261021T193000
DTEND:20261021T213000
SUMMARY:John Scofield Electrospective
LOCATION:City Winery Nashville Lafayette Street 609\, 37203 Nashville\, USA
DESCRIPTION:Tickets / Eintrittskarten: https://jazz-concerts.com/de/event/43486\n\nJohn Scofield Electrospective\n\n
END:VEVENT
END:VCALENDAR
