BEGIN:VCALENDAR
VERSION:2.0
PRODID:jazz-concerts.com
METHOD:PUBLISH
SEQUENCE:1777077850
BEGIN:VEVENT
UID:jazz-concerts.com-1-43485
DTSTAMP:20260425T024410
DTSTART:20261020T200000
DTEND:20261020T220000
SUMMARY:John Scofield Electrospective
LOCATION:The Sheldon Concert Hall and Art Galleries Washington Avenue 3648\, 63108 St. Louis\, USA
DESCRIPTION:Tickets / Eintrittskarten: https://jazz-concerts.com/de/event/43485\n\nJohn Scofield Electrospective\n\n
END:VEVENT
END:VCALENDAR
