BEGIN:VCALENDAR
VERSION:2.0
PRODID:jazz-concerts.com
METHOD:PUBLISH
SEQUENCE:1777077898
BEGIN:VEVENT
UID:jazz-concerts.com-1-43479
DTSTAMP:20260425T024458
DTSTART:20261106T200000
DTEND:20261106T220000
SUMMARY:John Scofield Electrospective
LOCATION:Neptune Theatre Northeast 45th Street 1303\, 98105 Seattle\, USA
DESCRIPTION:Tickets / Eintrittskarten: https://jazz-concerts.com/de/event/43479\n\nJohn Scofield Electrospective\n\n
END:VEVENT
END:VCALENDAR
