BEGIN:VCALENDAR
VERSION:2.0
PRODID:jazz-concerts.com
METHOD:PUBLISH
SEQUENCE:1777077897
BEGIN:VEVENT
UID:jazz-concerts.com-1-43478
DTSTAMP:20260425T024457
DTSTART:20261029T203000
DTEND:20261029T223000
SUMMARY:John Scofield Electrospective
LOCATION:Regent Theater Main Street 448\, 90013 Los Angeles\, USA
DESCRIPTION:Tickets / Eintrittskarten: https://jazz-concerts.com/de/event/43478\n\nJohn Scofield Electrospective\n\n
END:VEVENT
END:VCALENDAR
