BEGIN:VCALENDAR
VERSION:2.0
PRODID:jazz-concerts.com
METHOD:PUBLISH
SEQUENCE:1777077851
BEGIN:VEVENT
UID:jazz-concerts.com-1-43476
DTSTAMP:20260425T024411
DTSTART:20261027T190000
DTEND:20261027T210000
SUMMARY:John Scofield Electrospective
LOCATION:Belly Up Tavern South Cedros Avenue 143\, 92075 Solana Beach\, USA
DESCRIPTION:Tickets / Eintrittskarten: https://jazz-concerts.com/de/event/43476\n\nJohn Scofield Electrospective\n\n
END:VEVENT
END:VCALENDAR
