BEGIN:VCALENDAR
VERSION:2.0
PRODID:jazz-concerts.com
METHOD:PUBLISH
SEQUENCE:1777077897
BEGIN:VEVENT
UID:jazz-concerts.com-1-43474
DTSTAMP:20260425T024457
DTSTART:20261015T193000
DTEND:20261015T213000
SUMMARY:John Scofield Electrospective
LOCATION:Ludlow Garage Ludlow Avenue 342\, 45220 Cincinnati\, USA
DESCRIPTION:Tickets / Eintrittskarten: https://jazz-concerts.com/de/event/43474\n\nJohn Scofield Electrospective\n\n
END:VEVENT
END:VCALENDAR
