BEGIN:VCALENDAR
VERSION:2.0
PRODID:jazz-concerts.com
METHOD:PUBLISH
SEQUENCE:1777077850
BEGIN:VEVENT
UID:jazz-concerts.com-1-43473
DTSTAMP:20260425T024410
DTSTART:20261014T193000
DTEND:20261014T213000
SUMMARY:John Scofield Electrospective
LOCATION:Ludlow Garage Ludlow Avenue 342\, 45220 Cincinnati\, USA
DESCRIPTION:Tickets / Eintrittskarten: https://jazz-concerts.com/de/event/43473\n\nJohn Scofield Electrospective\n\n
END:VEVENT
END:VCALENDAR
