BEGIN:VCALENDAR
VERSION:2.0
PRODID:jazz-concerts.com
METHOD:PUBLISH
SEQUENCE:1777077898
BEGIN:VEVENT
UID:jazz-concerts.com-1-43468
DTSTAMP:20260425T024458
DTSTART:20261103T200000
DTEND:20261103T220000
SUMMARY:John Scofield Electrospective
LOCATION:Revolution Hall Southeast Stark Street 1300\, 97214 Portland\, USA
DESCRIPTION:Tickets / Eintrittskarten: https://jazz-concerts.com/de/event/43468\n\nJohn Scofield Electrospective\n\n
END:VEVENT
END:VCALENDAR
