BEGIN:VCALENDAR
VERSION:2.0
PRODID:jazz-concerts.com
METHOD:PUBLISH
SEQUENCE:1777077897
BEGIN:VEVENT
UID:jazz-concerts.com-1-43463
DTSTAMP:20260425T024457
DTSTART:20261105T200000
DTEND:20261105T220000
SUMMARY:John Scofield Electrospective
LOCATION:McDonald Theatre Willamette Street 1010\, 97401 Eugene\, USA
DESCRIPTION:Tickets / Eintrittskarten: https://jazz-concerts.com/de/event/43463\n\nJohn Scofield Electrospective\n\n
END:VEVENT
END:VCALENDAR
