BEGIN:VCALENDAR
VERSION:2.0
PRODID:jazz-concerts.com
METHOD:PUBLISH
SEQUENCE:1777077897
BEGIN:VEVENT
UID:jazz-concerts.com-1-43462
DTSTAMP:20260425T024457
DTSTART:20261016T193000
DTEND:20261016T213000
SUMMARY:John Scofield Electrospective
LOCATION:Kent Stage East Main Street 175\, 44240 Kent\, USA
DESCRIPTION:Tickets / Eintrittskarten: https://jazz-concerts.com/de/event/43462\n\nJohn Scofield Electrospective\n\n
END:VEVENT
END:VCALENDAR
