BEGIN:VCALENDAR
VERSION:2.0
PRODID:jazz-concerts.com
METHOD:PUBLISH
SEQUENCE:1777059158
BEGIN:VEVENT
UID:jazz-concerts.com-1-43425
DTSTAMP:20260424T213238
DTSTART:20260503T190000
DTEND:20260503T210000
SUMMARY:Gogo Penguin
LOCATION:Rockefeller Music Hall Mariboes gate 5B\, 0183 Oslo\, Norwegen
DESCRIPTION:Tickets / Eintrittskarten: https://jazz-concerts.com/de/event/43425\n\nGogo Penguin\n\n
END:VEVENT
END:VCALENDAR
