BEGIN:VCALENDAR
VERSION:2.0
PRODID:jazz-concerts.com
METHOD:PUBLISH
SEQUENCE:1776885655
BEGIN:VEVENT
UID:jazz-concerts.com-1-43413
DTSTAMP:20260422T212055
DTSTART:20260619T213000
DTEND:20260619T233000
SUMMARY:Houston Person Quintet
LOCATION:Jazz Forum Dixon Lane 1\, 10591 Tarrytown\, USA
DESCRIPTION:Tickets / Eintrittskarten: https://jazz-concerts.com/de/event/43413\n\nHouston Person Quintet\n\n
END:VEVENT
END:VCALENDAR
