BEGIN:VCALENDAR
VERSION:2.0
PRODID:jazz-concerts.com
METHOD:PUBLISH
SEQUENCE:1777059148
BEGIN:VEVENT
UID:jazz-concerts.com-1-43399
DTSTAMP:20260424T213228
DTSTART:20260531T180000
DTEND:20260531T200000
SUMMARY:Hendrik Meurkens Samba Jazz Quintet feat. Portinho
LOCATION:Jazz Forum Dixon Lane 1\, 10591 Tarrytown\, USA
DESCRIPTION:Tickets / Eintrittskarten: https://jazz-concerts.com/de/event/43399\n\nHendrik Meurkens Samba Jazz Quintet feat. Portinho\n\n
END:VEVENT
END:VCALENDAR
