BEGIN:VCALENDAR
VERSION:2.0
PRODID:jazz-concerts.com
METHOD:PUBLISH
SEQUENCE:1777059161
BEGIN:VEVENT
UID:jazz-concerts.com-1-43393
DTSTAMP:20260424T213241
DTSTART:20260524T180000
DTEND:20260524T200000
SUMMARY:Gili Lopes Quartet
LOCATION:Jazz Forum Dixon Lane 1\, 10591 Tarrytown\, USA
DESCRIPTION:Tickets / Eintrittskarten: https://jazz-concerts.com/de/event/43393\n\nGili Lopes Quartet\n\n
END:VEVENT
END:VCALENDAR
