BEGIN:VCALENDAR
VERSION:2.0
PRODID:jazz-concerts.com
METHOD:PUBLISH
SEQUENCE:1777114444
BEGIN:VEVENT
UID:jazz-concerts.com-1-43385
DTSTAMP:20260425T125404
DTSTART:20260516T213000
DTEND:20260516T233000
SUMMARY:Paul Winter & Henrique Eisenmann
LOCATION:Jazz Forum Dixon Lane 1\, 10591 Tarrytown\, USA
DESCRIPTION:Tickets / Eintrittskarten: https://jazz-concerts.com/de/event/43385\n\nPaul Winter & Henrique Eisenmann\n\n
END:VEVENT
END:VCALENDAR
