BEGIN:VCALENDAR
VERSION:2.0
PRODID:jazz-concerts.com
METHOD:PUBLISH
SEQUENCE:1776896709
BEGIN:VEVENT
UID:jazz-concerts.com-1-43377
DTSTAMP:20260423T002509
DTSTART:20260508T213000
DTEND:20260508T233000
SUMMARY:Vincent Herring / Eric Alexander Quintet
LOCATION:Jazz Forum Dixon Lane 1\, 10591 Tarrytown\, USA
DESCRIPTION:Tickets / Eintrittskarten: https://jazz-concerts.com/de/event/43377\n\nVincent Herring / Eric Alexander Quintet\n\n
END:VEVENT
END:VCALENDAR
