BEGIN:VCALENDAR
VERSION:2.0
PRODID:jazz-concerts.com
METHOD:PUBLISH
SEQUENCE:1776896714
BEGIN:VEVENT
UID:jazz-concerts.com-1-43372
DTSTAMP:20260423T002514
DTSTART:20260502T190000
DTEND:20260502T210000
SUMMARY:Isaiah J. Thompson Quartet
LOCATION:Jazz Forum Dixon Lane 1\, 10591 Tarrytown\, USA
DESCRIPTION:Tickets / Eintrittskarten: https://jazz-concerts.com/de/event/43372\n\nIsaiah J. Thompson Quartet\n\n
END:VEVENT
END:VCALENDAR
