BEGIN:VCALENDAR
VERSION:2.0
PRODID:jazz-concerts.com
METHOD:PUBLISH
SEQUENCE:1776896715
BEGIN:VEVENT
UID:jazz-concerts.com-1-43371
DTSTAMP:20260423T002515
DTSTART:20260501T213000
DTEND:20260501T233000
SUMMARY:Isaiah J. Thompson Quartet
LOCATION:Jazz Forum Dixon Lane 1\, 10591 Tarrytown\, USA
DESCRIPTION:Tickets / Eintrittskarten: https://jazz-concerts.com/de/event/43371\n\nIsaiah J. Thompson Quartet\n\n
END:VEVENT
END:VCALENDAR
