BEGIN:VCALENDAR
VERSION:2.0
PRODID:jazz-concerts.com
METHOD:PUBLISH
SEQUENCE:1776885612
BEGIN:VEVENT
UID:jazz-concerts.com-1-43369
DTSTAMP:20260422T212012
DTSTART:20260521T193000
DTEND:20260521T213000
SUMMARY:Iris Oettinger´s International Swingtett feat. Dan Barrett
LOCATION:Steinturnhalle Steinstraße 5\, 71229 Leonberg\, Deutschland
DESCRIPTION:Tickets / Eintrittskarten: https://jazz-concerts.com/de/event/43369\n\nIris Oettinger´s International Swingtett feat. Dan Barrett\n\n
END:VEVENT
END:VCALENDAR
