BEGIN:VCALENDAR
VERSION:2.0
PRODID:jazz-concerts.com
METHOD:PUBLISH
SEQUENCE:1776885612
BEGIN:VEVENT
UID:jazz-concerts.com-1-43368
DTSTAMP:20260422T212012
DTSTART:20260507T193000
DTEND:20260507T213000
SUMMARY:Werner Acker Swing Quartett
LOCATION:Steinturnhalle Steinstraße 5\, 71229 Leonberg\, Deutschland
DESCRIPTION:Tickets / Eintrittskarten: https://jazz-concerts.com/de/event/43368\n\nWerner Acker Swing Quartett\n\n
END:VEVENT
END:VCALENDAR
