BEGIN:VCALENDAR
VERSION:2.0
PRODID:jazz-concerts.com
METHOD:PUBLISH
SEQUENCE:1776896714
BEGIN:VEVENT
UID:jazz-concerts.com-1-43367
DTSTAMP:20260423T002514
DTSTART:20260626T200000
DTEND:20260626T220000
SUMMARY:Klaus Graf – Christoph Neuhaus Groove Group
LOCATION:Jazz-Club Schloss Köngen e.V. Blumenstraße 5\, 73257 Köngen\, Deutschland
DESCRIPTION:Tickets / Eintrittskarten: https://jazz-concerts.com/de/event/43367\n\nKlaus Graf – Christoph Neuhaus Groove Group\n\n
END:VEVENT
END:VCALENDAR
