BEGIN:VCALENDAR
VERSION:2.0
PRODID:jazz-concerts.com
METHOD:PUBLISH
SEQUENCE:1776885612
BEGIN:VEVENT
UID:jazz-concerts.com-1-43366
DTSTAMP:20260422T212012
DTSTART:20260526T200000
DTEND:20260526T220000
SUMMARY:Max Treutner Quartett
LOCATION:Jazz-Club Schloss Köngen e.V. Blumenstraße 5\, 73257 Köngen\, Deutschland
DESCRIPTION:Tickets / Eintrittskarten: https://jazz-concerts.com/de/event/43366\n\nMax Treutner Quartett\n\n
END:VEVENT
END:VCALENDAR
