BEGIN:VCALENDAR
VERSION:2.0
PRODID:jazz-concerts.com
METHOD:PUBLISH
SEQUENCE:1776812674
BEGIN:VEVENT
UID:jazz-concerts.com-1-43364
DTSTAMP:20260422T010434
DTSTART:20260613T210000
DTEND:20260613T230000
SUMMARY:Jeanne Cherhal
LOCATION:Domaine départemental de Sceaux Avenue Claude Perrault 8\, 92330 Sceaux\, Frankreich
DESCRIPTION:Tickets / Eintrittskarten: https://jazz-concerts.com/de/event/43364\n\nJeanne Cherhal\n\n
END:VEVENT
END:VCALENDAR
