BEGIN:VCALENDAR
VERSION:2.0
PRODID:jazz-concerts.com
METHOD:PUBLISH
SEQUENCE:1776776442
BEGIN:VEVENT
UID:jazz-concerts.com-1-43363
DTSTAMP:20260421T150042
DTSTART:20260613T193000
DTEND:20260613T213000
SUMMARY:Gregory Privat Trio
LOCATION:Casino de Paris Rue de Clichy 16\, 75009 Paris\, Frankreich
DESCRIPTION:Tickets / Eintrittskarten: https://jazz-concerts.com/de/event/43363\n\nGregory Privat Trio\n\n
END:VEVENT
END:VCALENDAR
