BEGIN:VCALENDAR
VERSION:2.0
PRODID:jazz-concerts.com
METHOD:PUBLISH
SEQUENCE:1776812672
BEGIN:VEVENT
UID:jazz-concerts.com-1-43362
DTSTAMP:20260422T010432
DTSTART:20260612T190000
DTEND:20260612T210000
SUMMARY:Women in Jazz
LOCATION:Domaine départemental de Sceaux Avenue Claude Perrault 8\, 92330 Sceaux\, Frankreich
DESCRIPTION:Tickets / Eintrittskarten: https://jazz-concerts.com/de/event/43362\n\nWomen in Jazz\n\n
END:VEVENT
END:VCALENDAR
