BEGIN:VCALENDAR
VERSION:2.0
PRODID:jazz-concerts.com
METHOD:PUBLISH
SEQUENCE:1776831522
BEGIN:VEVENT
UID:jazz-concerts.com-1-43358
DTSTAMP:20260422T061842
DTSTART:20260510T190000
DTEND:20260510T210000
SUMMARY:Scott Bradlees Postmodern Jukebox
LOCATION:La Commanderie Rue d'Azans 2\, 39100 Dole\, Frankreich
DESCRIPTION:Tickets / Eintrittskarten: https://jazz-concerts.com/de/event/43358\n\nScott Bradlees Postmodern Jukebox\n\n
END:VEVENT
END:VCALENDAR
