BEGIN:VCALENDAR
VERSION:2.0
PRODID:jazz-concerts.com
METHOD:PUBLISH
SEQUENCE:1776812672
BEGIN:VEVENT
UID:jazz-concerts.com-1-43357
DTSTAMP:20260422T010432
DTSTART:20260506T000000
DTEND:20260506T020000
SUMMARY:Andre Manoukian
LOCATION:Church of Saint-Vincent-de-Paul Boulevard Jean Jaurès 94\, 92110 Clichy\, Frankreich
DESCRIPTION:Tickets / Eintrittskarten: https://jazz-concerts.com/de/event/43357\n\nAndre Manoukian\n\n
END:VEVENT
END:VCALENDAR
