BEGIN:VCALENDAR
VERSION:2.0
PRODID:jazz-concerts.com
METHOD:PUBLISH
SEQUENCE:1776831523
BEGIN:VEVENT
UID:jazz-concerts.com-1-43355
DTSTAMP:20260422T061843
DTSTART:20260429T200000
DTEND:20260429T220000
SUMMARY:Scott Bradlees Postmodern Jukebox
LOCATION:Carre Des Docks Le Havre Normandy Quai de la Réunion 64\, 76600 Le Havre\, Frankreich
DESCRIPTION:Tickets / Eintrittskarten: https://jazz-concerts.com/de/event/43355\n\nScott Bradlees Postmodern Jukebox\n\n
END:VEVENT
END:VCALENDAR
